BEGIN:VCALENDAR
VERSION:2.0
PRODID:-//Library Market//iCal Export//EN
BEGIN:VEVENT
SUMMARY:The Art of Hikaru Dorodango
UID:25706
DTSTAMP:20260420T122600Z
DTSTART:20260813T233000Z
DTEND:20260814T013000Z
LOCATION:Bitterroot Public Library, 306 State Street, Hamilton, MT 59840, 
 United States
ROOM: Community Program Room
DESCRIPTION:Discover the captivating art of Hikaru Dorodango with our upco
 ming hands-on class!Learn how to transform simple dirt and water into stun
 ning, polished spheres that are both meditative to create and mesmerizing 
 to behold. Our expert instructor will guide you through each step, from se
 lecting the right soil to achieving that perfect glossy finish. Ideal for 
 all skill levels, this workshop offers a unique blend of creativity and mi
 ndfulness.Whether you&#039;re looking for a new hobby or a unique way to r
 elax, join us and turn mud into art! Limited spots available, so register 
 today and experience the magic of dorodango.
URL:https://bitterroot.librarycalendar.com/event/art-hikaru-dorodango-2570
 6
END:VEVENT
END:VCALENDAR
